BEGIN:VCALENDAR
VERSION:2.0
PRODID:-//San Juan Mater Salvatoris - ECPv6.15.13//NONSGML v1.0//EN
CALSCALE:GREGORIAN
METHOD:PUBLISH
X-ORIGINAL-URL:https://sanjuan.matersalvatoris.org
X-WR-CALDESC:Eventos para San Juan Mater Salvatoris
REFRESH-INTERVAL;VALUE=DURATION:PT1H
X-Robots-Tag:noindex
X-PUBLISHED-TTL:PT1H
BEGIN:VTIMEZONE
TZID:UTC
BEGIN:STANDARD
TZOFFSETFROM:+0000
TZOFFSETTO:+0000
TZNAME:UTC
DTSTART:20210101T000000
END:STANDARD
END:VTIMEZONE
BEGIN:VEVENT
DTSTART;VALUE=DATE:20230324
DTEND;VALUE=DATE:20230325
DTSTAMP:20260424T214833
CREATED:20230116T143959Z
LAST-MODIFIED:20230116T143959Z
UID:6093-1679616000-1679702399@sanjuan.matersalvatoris.org
SUMMARY:Fiesta Mater Salvatoris
DESCRIPTION:Al ser el sábado 25 de marzo\, día de la Anunciación\, se adelanta al viernes 24 de marzo
URL:https://sanjuan.matersalvatoris.org/evento/fiesta-mater-salvatoris/
END:VEVENT
BEGIN:VEVENT
DTSTART;TZID=UTC:20230323T080000
DTEND;TZID=UTC:20230323T090000
DTSTAMP:20260424T214833
CREATED:20230116T143900Z
LAST-MODIFIED:20230116T143900Z
UID:6091-1679558400-1679562000@sanjuan.matersalvatoris.org
SUMMARY:Misa Mater Salvatoris
DESCRIPTION:
URL:https://sanjuan.matersalvatoris.org/evento/misa-mater-salvatoris/
END:VEVENT
BEGIN:VEVENT
DTSTART;VALUE=DATE:20230322
DTEND;VALUE=DATE:20230323
DTSTAMP:20260424T214833
CREATED:20230116T143718Z
LAST-MODIFIED:20230116T143718Z
UID:6085-1679443200-1679529599@sanjuan.matersalvatoris.org
SUMMARY:NO CLASES - Abolición esclavitud
DESCRIPTION:
URL:https://sanjuan.matersalvatoris.org/evento/no-clases-abolicion-esclavitud/
END:VEVENT
BEGIN:VEVENT
DTSTART;TZID=UTC:20230321T170000
DTEND;TZID=UTC:20230321T180000
DTSTAMP:20260424T214833
CREATED:20230116T143828Z
LAST-MODIFIED:20230116T143828Z
UID:6089-1679418000-1679421600@sanjuan.matersalvatoris.org
SUMMARY:Ring Ceremony
DESCRIPTION:
URL:https://sanjuan.matersalvatoris.org/evento/ring-ceremony/
END:VEVENT
BEGIN:VEVENT
DTSTART;VALUE=DATE:20230320
DTEND;VALUE=DATE:20230326
DTSTAMP:20260424T214833
CREATED:20230116T143654Z
LAST-MODIFIED:20230116T143654Z
UID:6083-1679270400-1679788799@sanjuan.matersalvatoris.org
SUMMARY:Spirit Week Interm-HS - Semana Mater
DESCRIPTION:
URL:https://sanjuan.matersalvatoris.org/evento/spirit-week-interm-hs-semana-mater/
END:VEVENT
BEGIN:VEVENT
DTSTART;VALUE=DATE:20230320
DTEND;VALUE=DATE:20230321
DTSTAMP:20260424T214833
CREATED:20230116T143742Z
LAST-MODIFIED:20230116T143742Z
UID:6087-1679270400-1679356799@sanjuan.matersalvatoris.org
SUMMARY:PSAT 8 y 9
DESCRIPTION:
URL:https://sanjuan.matersalvatoris.org/evento/psat-8-y-9/
END:VEVENT
BEGIN:VEVENT
DTSTART;TZID=UTC:20230302T100000
DTEND;TZID=UTC:20230302T113000
DTSTAMP:20260424T214833
CREATED:20230116T143445Z
LAST-MODIFIED:20230116T143445Z
UID:6079-1677751200-1677756600@sanjuan.matersalvatoris.org
SUMMARY:Visita Autopistas Americas
DESCRIPTION:
URL:https://sanjuan.matersalvatoris.org/evento/visita-autopistas-americas/
END:VEVENT
BEGIN:VEVENT
DTSTART;VALUE=DATE:20230301
DTEND;VALUE=DATE:20230302
DTSTAMP:20260424T214833
CREATED:20230116T143416Z
LAST-MODIFIED:20230116T143416Z
UID:6077-1677628800-1677715199@sanjuan.matersalvatoris.org
SUMMARY:SAT 11
DESCRIPTION:
URL:https://sanjuan.matersalvatoris.org/evento/sat-11/
END:VEVENT
BEGIN:VEVENT
DTSTART;VALUE=DATE:20230224
DTEND;VALUE=DATE:20230225
DTSTAMP:20260424T214833
CREATED:20230116T143307Z
LAST-MODIFIED:20230116T143307Z
UID:6075-1677196800-1677283199@sanjuan.matersalvatoris.org
SUMMARY:GOOFY DAY INTERM-HS
DESCRIPTION:
URL:https://sanjuan.matersalvatoris.org/evento/goofy-day-interm-hs/
END:VEVENT
BEGIN:VEVENT
DTSTART;VALUE=DATE:20230224
DTEND;VALUE=DATE:20230225
DTSTAMP:20260424T214833
CREATED:20230116T143245Z
LAST-MODIFIED:20230116T143245Z
UID:6073-1677196800-1677283199@sanjuan.matersalvatoris.org
SUMMARY:FIELD DAY PREESCOLAR
DESCRIPTION:
URL:https://sanjuan.matersalvatoris.org/evento/field-day-preescolar/
END:VEVENT
BEGIN:VEVENT
DTSTART;VALUE=DATE:20230223
DTEND;VALUE=DATE:20230224
DTSTAMP:20260424T214833
CREATED:20230116T143202Z
LAST-MODIFIED:20230116T143202Z
UID:6071-1677110400-1677196799@sanjuan.matersalvatoris.org
SUMMARY:FIELD DAY ELEMENTAL
DESCRIPTION:
URL:https://sanjuan.matersalvatoris.org/evento/field-day-elemental/
END:VEVENT
BEGIN:VEVENT
DTSTART;VALUE=DATE:20230222
DTEND;VALUE=DATE:20230223
DTSTAMP:20260424T214833
CREATED:20230116T143140Z
LAST-MODIFIED:20230116T143140Z
UID:6069-1677024000-1677110399@sanjuan.matersalvatoris.org
SUMMARY:Miércoles de Ceniza
DESCRIPTION:
URL:https://sanjuan.matersalvatoris.org/evento/miercoles-de-ceniza/
END:VEVENT
BEGIN:VEVENT
DTSTART;VALUE=DATE:20230220
DTEND;VALUE=DATE:20230221
DTSTAMP:20260424T214833
CREATED:20230116T142702Z
LAST-MODIFIED:20230116T142702Z
UID:6064-1676851200-1676937599@sanjuan.matersalvatoris.org
SUMMARY:NO CLASES-DÍA PRESINDENTES
DESCRIPTION:
URL:https://sanjuan.matersalvatoris.org/evento/no-clases-dia-presindentes/
END:VEVENT
BEGIN:VEVENT
DTSTART;VALUE=DATE:20230218
DTEND;VALUE=DATE:20230219
DTSTAMP:20260424T214833
CREATED:20230116T142606Z
LAST-MODIFIED:20230116T142606Z
UID:6060-1676678400-1676764799@sanjuan.matersalvatoris.org
SUMMARY:Voleibol Infantil Carnaval
DESCRIPTION:
URL:https://sanjuan.matersalvatoris.org/evento/voleibol-infantil-carnaval/
END:VEVENT
BEGIN:VEVENT
DTSTART;VALUE=DATE:20230214
DTEND;VALUE=DATE:20230215
DTSTAMP:20260424T214833
CREATED:20230116T142537Z
LAST-MODIFIED:20230116T142537Z
UID:6058-1676332800-1676419199@sanjuan.matersalvatoris.org
SUMMARY:Día de la amistad
DESCRIPTION:
URL:https://sanjuan.matersalvatoris.org/evento/dia-de-la-amistad/
END:VEVENT
BEGIN:VEVENT
DTSTART;VALUE=DATE:20230210
DTEND;VALUE=DATE:20230212
DTSTAMP:20260424T214833
CREATED:20230116T142510Z
LAST-MODIFIED:20230116T142510Z
UID:6056-1675987200-1676159999@sanjuan.matersalvatoris.org
SUMMARY:TORNEO BALONCESTO
DESCRIPTION:
URL:https://sanjuan.matersalvatoris.org/evento/torneo-baloncesto/
END:VEVENT
BEGIN:VEVENT
DTSTART;TZID=UTC:20230208T080000
DTEND;TZID=UTC:20230208T100000
DTSTAMP:20260424T214833
CREATED:20230116T142431Z
LAST-MODIFIED:20230116T142431Z
UID:6054-1675843200-1675850400@sanjuan.matersalvatoris.org
SUMMARY:OPEN HOUSE
DESCRIPTION:Link para inscribirse \nLa actividad comienza a las 8:00am en el Auditorio.
URL:https://sanjuan.matersalvatoris.org/evento/open-house/
END:VEVENT
BEGIN:VEVENT
DTSTART;VALUE=DATE:20230206
DTEND;VALUE=DATE:20230211
DTSTAMP:20260424T214833
CREATED:20230116T142307Z
LAST-MODIFIED:20230116T142307Z
UID:6052-1675641600-1676073599@sanjuan.matersalvatoris.org
SUMMARY:ENGLISH WEEK
DESCRIPTION:
URL:https://sanjuan.matersalvatoris.org/evento/english-week/
END:VEVENT
BEGIN:VEVENT
DTSTART;TZID=UTC:20230126T080000
DTEND;TZID=UTC:20230126T120000
DTSTAMP:20260424T214833
CREATED:20230116T142115Z
LAST-MODIFIED:20230116T142115Z
UID:6048-1674720000-1674734400@sanjuan.matersalvatoris.org
SUMMARY:Exámenes de admisión
DESCRIPTION:Link para inscribirse
URL:https://sanjuan.matersalvatoris.org/evento/examenes-de-admision/
END:VEVENT
BEGIN:VEVENT
DTSTART;TZID=UTC:20230122T100000
DTEND;TZID=UTC:20230122T110000
DTSTAMP:20260424T214833
CREATED:20230116T141726Z
LAST-MODIFIED:20230116T141726Z
UID:6046-1674381600-1674385200@sanjuan.matersalvatoris.org
SUMMARY:Misa Madre María Félix\,CS
DESCRIPTION:
URL:https://sanjuan.matersalvatoris.org/evento/misa-madre-maria-felixcs/
END:VEVENT
BEGIN:VEVENT
DTSTART;TZID=UTC:20230119T080000
DTEND;TZID=UTC:20230119T093000
DTSTAMP:20260424T214833
CREATED:20230116T143554Z
LAST-MODIFIED:20230116T143554Z
UID:6081-1674115200-1674120600@sanjuan.matersalvatoris.org
SUMMARY:Pin Ceremony 8vo.
DESCRIPTION:
URL:https://sanjuan.matersalvatoris.org/evento/pin-ceremony-8vo/
END:VEVENT
BEGIN:VEVENT
DTSTART;VALUE=DATE:20230117
DTEND;VALUE=DATE:20230123
DTSTAMP:20260424T214833
CREATED:20230116T142233Z
LAST-MODIFIED:20230116T142233Z
UID:6050-1673913600-1674431999@sanjuan.matersalvatoris.org
SUMMARY:Semana M. Félix\,CS
DESCRIPTION:Fundadora de la Compañía del Salvador y de los Colegios Mater Salvatoris.
URL:https://sanjuan.matersalvatoris.org/evento/semana-m-felixcs/
END:VEVENT
BEGIN:VEVENT
DTSTART;VALUE=DATE:20230116
DTEND;VALUE=DATE:20230117
DTSTAMP:20260424T214833
CREATED:20230116T142634Z
LAST-MODIFIED:20230116T142634Z
UID:6062-1673827200-1673913599@sanjuan.matersalvatoris.org
SUMMARY:NO CLASES
DESCRIPTION:
URL:https://sanjuan.matersalvatoris.org/evento/no-clases/
END:VEVENT
BEGIN:VEVENT
DTSTART;VALUE=DATE:20220517
DTEND;VALUE=DATE:20220518
DTSTAMP:20260424T214833
CREATED:20211113T194227Z
LAST-MODIFIED:20211113T194227Z
UID:5963-1652745600-1652831999@sanjuan.matersalvatoris.org
SUMMARY:Último día de Clases
DESCRIPTION:
URL:https://sanjuan.matersalvatoris.org/evento/ultimo-dia-de-clases-4/
END:VEVENT
BEGIN:VEVENT
DTSTART;VALUE=DATE:20220506
DTEND;VALUE=DATE:20220507
DTSTAMP:20260424T214833
CREATED:20211113T194147Z
LAST-MODIFIED:20211113T194147Z
UID:5961-1651795200-1651881599@sanjuan.matersalvatoris.org
SUMMARY:No clases. Día de maestro
DESCRIPTION:
URL:https://sanjuan.matersalvatoris.org/evento/no-clases-dia-de-maestro/
END:VEVENT
BEGIN:VEVENT
DTSTART;VALUE=DATE:20220419
DTEND;VALUE=DATE:20220420
DTSTAMP:20260424T214833
CREATED:20211113T194120Z
LAST-MODIFIED:20211113T194120Z
UID:5959-1650326400-1650412799@sanjuan.matersalvatoris.org
SUMMARY:Reinicio de Clases
DESCRIPTION:
URL:https://sanjuan.matersalvatoris.org/evento/reinicio-de-clases/
END:VEVENT
BEGIN:VEVENT
DTSTART;VALUE=DATE:20220408
DTEND;VALUE=DATE:20220412
DTSTAMP:20260424T214833
CREATED:20211113T194052Z
LAST-MODIFIED:20211113T194052Z
UID:5957-1649376000-1649721599@sanjuan.matersalvatoris.org
SUMMARY:Receso de Semana Santa
DESCRIPTION:
URL:https://sanjuan.matersalvatoris.org/evento/receso-de-semana-santa/
END:VEVENT
BEGIN:VEVENT
DTSTART;VALUE=DATE:20220408
DTEND;VALUE=DATE:20220409
DTSTAMP:20260424T214833
CREATED:20211113T194012Z
LAST-MODIFIED:20211113T194012Z
UID:5955-1649376000-1649462399@sanjuan.matersalvatoris.org
SUMMARY:Retiro Facultad de Semana Santa
DESCRIPTION:
URL:https://sanjuan.matersalvatoris.org/evento/retiro-facultad-de-semana-santa/
END:VEVENT
BEGIN:VEVENT
DTSTART;VALUE=DATE:20220407
DTEND;VALUE=DATE:20220408
DTSTAMP:20260424T214833
CREATED:20211113T193931Z
LAST-MODIFIED:20211113T193931Z
UID:5953-1649289600-1649375999@sanjuan.matersalvatoris.org
SUMMARY:Último día de clases antes de Semana Santa
DESCRIPTION:
URL:https://sanjuan.matersalvatoris.org/evento/ultimo-dia-de-clases-antes-de-semana-santa/
END:VEVENT
BEGIN:VEVENT
DTSTART;VALUE=DATE:20220325
DTEND;VALUE=DATE:20220326
DTSTAMP:20260424T214833
CREATED:20211113T193906Z
LAST-MODIFIED:20211113T193906Z
UID:5951-1648166400-1648252799@sanjuan.matersalvatoris.org
SUMMARY:Día de Mater Salvatoris
DESCRIPTION:
URL:https://sanjuan.matersalvatoris.org/evento/dia-de-mater-salvatoris/
END:VEVENT
END:VCALENDAR