BEGIN:VCALENDAR
VERSION:2.0
PRODID:-//San Juan Mater Salvatoris - ECPv6.15.13//NONSGML v1.0//EN
CALSCALE:GREGORIAN
METHOD:PUBLISH
X-ORIGINAL-URL:https://sanjuan.matersalvatoris.org
X-WR-CALDESC:Eventos para San Juan Mater Salvatoris
REFRESH-INTERVAL;VALUE=DURATION:PT1H
X-Robots-Tag:noindex
X-PUBLISHED-TTL:PT1H
BEGIN:VTIMEZONE
TZID:UTC
BEGIN:STANDARD
TZOFFSETFROM:+0000
TZOFFSETTO:+0000
TZNAME:UTC
DTSTART:20170101T000000
END:STANDARD
END:VTIMEZONE
BEGIN:VEVENT
DTSTART;VALUE=DATE:20220111
DTEND;VALUE=DATE:20220112
DTSTAMP:20260425T030803
CREATED:20211113T193739Z
LAST-MODIFIED:20211113T193739Z
UID:5945-1641859200-1641945599@sanjuan.matersalvatoris.org
SUMMARY:Reinicio clases 2 semestre
DESCRIPTION:
URL:https://sanjuan.matersalvatoris.org/evento/reinicio-clases-2-semestre/
END:VEVENT
BEGIN:VEVENT
DTSTART;VALUE=DATE:20220110
DTEND;VALUE=DATE:20220111
DTSTAMP:20260425T030803
CREATED:20211113T193717Z
LAST-MODIFIED:20211113T193717Z
UID:5943-1641772800-1641859199@sanjuan.matersalvatoris.org
SUMMARY:No clases. Labores docentes
DESCRIPTION:
URL:https://sanjuan.matersalvatoris.org/evento/no-clases-labores-docentes/
END:VEVENT
BEGIN:VEVENT
DTSTART;VALUE=DATE:20211220
DTEND;VALUE=DATE:20211223
DTSTAMP:20260425T030803
CREATED:20211113T193629Z
LAST-MODIFIED:20211113T193629Z
UID:5941-1639958400-1640217599@sanjuan.matersalvatoris.org
SUMMARY:Labores docentes
DESCRIPTION:
URL:https://sanjuan.matersalvatoris.org/evento/labores-docentes-3/
END:VEVENT
BEGIN:VEVENT
DTSTART;VALUE=DATE:20211218
DTEND;VALUE=DATE:20211219
DTSTAMP:20260425T030803
CREATED:20211127T125612Z
LAST-MODIFIED:20211127T125612Z
UID:6001-1639785600-1639871999@sanjuan.matersalvatoris.org
SUMMARY:Actividad de Navidad de la Congregación Mariana
DESCRIPTION:
URL:https://sanjuan.matersalvatoris.org/evento/actividad-de-navidad-de-la-congregacion-mariana/
END:VEVENT
BEGIN:VEVENT
DTSTART;VALUE=DATE:20211217
DTEND;VALUE=DATE:20211218
DTSTAMP:20260425T030803
CREATED:20211113T193559Z
LAST-MODIFIED:20211113T193559Z
UID:5939-1639699200-1639785599@sanjuan.matersalvatoris.org
SUMMARY:Último día de clases
DESCRIPTION:
URL:https://sanjuan.matersalvatoris.org/evento/ultimo-dia-de-clases-3/
END:VEVENT
BEGIN:VEVENT
DTSTART;VALUE=DATE:20211208
DTEND;VALUE=DATE:20211209
DTSTAMP:20260425T030803
CREATED:20211127T125532Z
LAST-MODIFIED:20211127T125532Z
UID:5999-1638921600-1639007999@sanjuan.matersalvatoris.org
SUMMARY:Santa Misa en honor a la Inmaculada Concepción
DESCRIPTION:
URL:https://sanjuan.matersalvatoris.org/evento/santa-misa-en-honor-a-la-inmaculada-concepcion/
END:VEVENT
BEGIN:VEVENT
DTSTART;VALUE=DATE:20211208
DTEND;VALUE=DATE:20211209
DTSTAMP:20260425T030803
CREATED:20211127T125501Z
LAST-MODIFIED:20211127T125501Z
UID:5997-1638921600-1639007999@sanjuan.matersalvatoris.org
SUMMARY:Certamen de la Inmaculada de 6º a 8º grado
DESCRIPTION:
URL:https://sanjuan.matersalvatoris.org/evento/certamen-de-la-inmaculada-de-6o-a-8o-grado/
END:VEVENT
BEGIN:VEVENT
DTSTART;VALUE=DATE:20211121
DTEND;VALUE=DATE:20211122
DTSTAMP:20260425T030803
CREATED:20191119T132326Z
LAST-MODIFIED:20191119T132326Z
UID:5603-1637452800-1637539199@sanjuan.matersalvatoris.org
SUMMARY:Virgen Niña
DESCRIPTION:Fiesta de la Presentación de la Virgen en el Templo. \n 
URL:https://sanjuan.matersalvatoris.org/evento/virgen-nina/
END:VEVENT
BEGIN:VEVENT
DTSTART;TZID=UTC:20211119T080000
DTEND;TZID=UTC:20211119T093000
DTSTAMP:20260425T030803
CREATED:20211113T192829Z
LAST-MODIFIED:20211113T192829Z
UID:5929-1637308800-1637314200@sanjuan.matersalvatoris.org
SUMMARY:Vacunación de los estudiantes de 5 a 11 años
DESCRIPTION:Para aquellos estudiantes que así lo soliciten los padres y los acompañen.
URL:https://sanjuan.matersalvatoris.org/evento/vacunacion-de-los-estudiantes-de-5-a-11-anos/
END:VEVENT
BEGIN:VEVENT
DTSTART;TZID=UTC:20211116T080000
DTEND;TZID=UTC:20211116T110000
DTSTAMP:20260425T030803
CREATED:20211113T192636Z
LAST-MODIFIED:20211113T192636Z
UID:5926-1637049600-1637060400@sanjuan.matersalvatoris.org
SUMMARY:Carrera del pavo
DESCRIPTION:Los estudiantes desde Pk2 hasta 12º grado podrán participar de esta actividad. \nÚnicamente podrán asistir los padres de los estudiantes que así lo solicitaron por medio del formulario facilitado.
URL:https://sanjuan.matersalvatoris.org/evento/carrera-del-pavo-2/
END:VEVENT
BEGIN:VEVENT
DTSTART;VALUE=DATE:20211115
DTEND;VALUE=DATE:20211120
DTSTAMP:20260425T030803
CREATED:20211113T192337Z
LAST-MODIFIED:20211113T192337Z
UID:5924-1636934400-1637366399@sanjuan.matersalvatoris.org
SUMMARY:Semana de Puerto Rico
DESCRIPTION:
URL:https://sanjuan.matersalvatoris.org/evento/semana-de-puerto-rico/
END:VEVENT
BEGIN:VEVENT
DTSTART;TZID=UTC:20211113T080000
DTEND;TZID=UTC:20211113T170000
DTSTAMP:20260425T030803
CREATED:20211113T193511Z
LAST-MODIFIED:20211113T193511Z
UID:5937-1636790400-1636822800@sanjuan.matersalvatoris.org
SUMMARY:Misa María Madre de la Divina Providencia
DESCRIPTION:
URL:https://sanjuan.matersalvatoris.org/evento/misa-maria-madre-de-la-divina-providencia/
END:VEVENT
BEGIN:VEVENT
DTSTART;VALUE=DATE:20191122
DTEND;VALUE=DATE:20191123
DTSTAMP:20260425T030803
CREATED:20191119T132507Z
LAST-MODIFIED:20191119T132507Z
UID:5607-1574380800-1574467199@sanjuan.matersalvatoris.org
SUMMARY:Día de trabajo profesional - no hay clases
DESCRIPTION:
URL:https://sanjuan.matersalvatoris.org/evento/dia-de-trabajo-profesional-no-hay-clases/
END:VEVENT
BEGIN:VEVENT
DTSTART;TZID=UTC:20191120T143000
DTEND;TZID=UTC:20191120T173000
DTSTAMP:20260425T030803
CREATED:20191119T132558Z
LAST-MODIFIED:20191119T132558Z
UID:5609-1574260200-1574271000@sanjuan.matersalvatoris.org
SUMMARY:Salida de Misión
DESCRIPTION:La Congregación Mariana sale de misión.
URL:https://sanjuan.matersalvatoris.org/evento/salida-de-mision/
END:VEVENT
BEGIN:VEVENT
DTSTART;TZID=UTC:20191120T080000
DTEND;TZID=UTC:20191120T110000
DTSTAMP:20260425T030803
CREATED:20191119T132646Z
LAST-MODIFIED:20191119T132646Z
UID:5611-1574236800-1574247600@sanjuan.matersalvatoris.org
SUMMARY:Carrera del Pavo
DESCRIPTION:
URL:https://sanjuan.matersalvatoris.org/evento/carrera-del-pavo/
END:VEVENT
BEGIN:VEVENT
DTSTART;TZID=UTC:20191119T080000
DTEND;TZID=UTC:20191119T090000
DTSTAMP:20260425T030803
CREATED:20191119T132200Z
LAST-MODIFIED:20191119T132200Z
UID:5600-1574150400-1574154000@sanjuan.matersalvatoris.org
SUMMARY:Misa de la Virgen Madre de la Divina Providencia
DESCRIPTION:Patrona de Puerto Rico \nEstán todos invitados a las 8:00am en la cancha del colegio.
URL:https://sanjuan.matersalvatoris.org/evento/misa-de-la-virgen-madre-de-la-divina-providencia/
END:VEVENT
BEGIN:VEVENT
DTSTART;TZID=UTC:20191115T170000
DTEND;TZID=UTC:20191115T220000
DTSTAMP:20260425T030803
CREATED:20191119T132410Z
LAST-MODIFIED:20191119T132410Z
UID:5605-1573837200-1573855200@sanjuan.matersalvatoris.org
SUMMARY:Noche Puertorriqueña
DESCRIPTION:Actividad profondos clase de 10º grado
URL:https://sanjuan.matersalvatoris.org/evento/noche-puertorriquena/
END:VEVENT
BEGIN:VEVENT
DTSTART;TZID=UTC:20190517T073000
DTEND;TZID=UTC:20190531T150000
DTSTAMP:20260425T030803
CREATED:20180727T181659Z
LAST-MODIFIED:20180727T181659Z
UID:5383-1558078200-1559314800@sanjuan.matersalvatoris.org
SUMMARY:Labores docentes
DESCRIPTION:
URL:https://sanjuan.matersalvatoris.org/evento/labores-docentes-2/
END:VEVENT
BEGIN:VEVENT
DTSTART;TZID=UTC:20190516T073000
DTEND;TZID=UTC:20190516T143000
DTSTAMP:20260425T030803
CREATED:20180727T181549Z
LAST-MODIFIED:20180727T181549Z
UID:5381-1557991800-1558017000@sanjuan.matersalvatoris.org
SUMMARY:Último día de clases
DESCRIPTION:
URL:https://sanjuan.matersalvatoris.org/evento/ultimo-dia-de-clases-2/
END:VEVENT
BEGIN:VEVENT
DTSTART;VALUE=DATE:20190510
DTEND;VALUE=DATE:20190511
DTSTAMP:20260425T030803
CREATED:20180727T181443Z
LAST-MODIFIED:20180727T181443Z
UID:5379-1557446400-1557532799@sanjuan.matersalvatoris.org
SUMMARY:Día del Maestro (NO HAY CLASES)
DESCRIPTION:
URL:https://sanjuan.matersalvatoris.org/evento/dia-del-maestro-no-hay-clases/
END:VEVENT
BEGIN:VEVENT
DTSTART;TZID=UTC:20190423T073000
DTEND;TZID=UTC:20190423T143000
DTSTAMP:20260425T030803
CREATED:20180727T181354Z
LAST-MODIFIED:20180727T181354Z
UID:5377-1556004600-1556029800@sanjuan.matersalvatoris.org
SUMMARY:Se reanudan las clases
DESCRIPTION:
URL:https://sanjuan.matersalvatoris.org/evento/se-reanudan-las-clases-2/
END:VEVENT
BEGIN:VEVENT
DTSTART;VALUE=DATE:20190422
DTEND;VALUE=DATE:20190423
DTSTAMP:20260425T030803
CREATED:20180727T181306Z
LAST-MODIFIED:20180727T181306Z
UID:5375-1555891200-1555977599@sanjuan.matersalvatoris.org
SUMMARY:Lunes de Pascua (NO HAY CLASES)
DESCRIPTION:
URL:https://sanjuan.matersalvatoris.org/evento/lunes-de-pascua-no-hay-clases/
END:VEVENT
BEGIN:VEVENT
DTSTART;VALUE=DATE:20190412
DTEND;VALUE=DATE:20190422
DTSTAMP:20260425T030803
CREATED:20180727T181227Z
LAST-MODIFIED:20180727T181227Z
UID:5372-1555027200-1555891199@sanjuan.matersalvatoris.org
SUMMARY:Receso de Semana Santa (NO HAY CLASES)
DESCRIPTION:
URL:https://sanjuan.matersalvatoris.org/evento/receso-de-semana-santa-no-hay-clases/
END:VEVENT
BEGIN:VEVENT
DTSTART;VALUE=DATE:20190412
DTEND;VALUE=DATE:20190413
DTSTAMP:20260425T030803
CREATED:20180727T180950Z
LAST-MODIFIED:20180727T180950Z
UID:5370-1555027200-1555113599@sanjuan.matersalvatoris.org
SUMMARY:Retiro de la Facultad (NO HAY CLASES)
DESCRIPTION:
URL:https://sanjuan.matersalvatoris.org/evento/retiro-de-la-facultad-no-hay-clases/
END:VEVENT
BEGIN:VEVENT
DTSTART;VALUE=DATE:20190322
DTEND;VALUE=DATE:20190323
DTSTAMP:20260425T030803
CREATED:20180727T161405Z
LAST-MODIFIED:20180727T161405Z
UID:5368-1553212800-1553299199@sanjuan.matersalvatoris.org
SUMMARY:Día de la Abolición de la Esclavitud (NO HAY CLASES)
DESCRIPTION:
URL:https://sanjuan.matersalvatoris.org/evento/dia-de-la-abolicion-de-la-esclavitud-no-hay-clases/
END:VEVENT
BEGIN:VEVENT
DTSTART;VALUE=DATE:20190306
DTEND;VALUE=DATE:20190307
DTSTAMP:20260425T030803
CREATED:20180727T161314Z
LAST-MODIFIED:20180727T161314Z
UID:5366-1551830400-1551916799@sanjuan.matersalvatoris.org
SUMMARY:Miércoles de ceniza - Inicio de la Cuaresma
DESCRIPTION:
URL:https://sanjuan.matersalvatoris.org/evento/miercoles-de-ceniza-inicio-de-la-cuaresma/
END:VEVENT
BEGIN:VEVENT
DTSTART;VALUE=DATE:20190218
DTEND;VALUE=DATE:20190219
DTSTAMP:20260425T030803
CREATED:20180727T161221Z
LAST-MODIFIED:20180727T161221Z
UID:5364-1550448000-1550534399@sanjuan.matersalvatoris.org
SUMMARY:Día de los Prócesres de Puerto Rico (NO HAY CLASES)
DESCRIPTION:
URL:https://sanjuan.matersalvatoris.org/evento/dia-de-los-procesres-de-puerto-rico-no-hay-clases/
END:VEVENT
BEGIN:VEVENT
DTSTART;VALUE=DATE:20190121
DTEND;VALUE=DATE:20190122
DTSTAMP:20260425T030803
CREATED:20180727T161132Z
LAST-MODIFIED:20180727T161132Z
UID:5362-1548028800-1548115199@sanjuan.matersalvatoris.org
SUMMARY:Día de Martin Luther King (NO HAY CLASES)
DESCRIPTION:
URL:https://sanjuan.matersalvatoris.org/evento/dia-de-martin-luther-king-no-hay-clases/
END:VEVENT
BEGIN:VEVENT
DTSTART;TZID=UTC:20190109T073000
DTEND;TZID=UTC:20190109T143000
DTSTAMP:20260425T030803
CREATED:20180727T161026Z
LAST-MODIFIED:20180727T161026Z
UID:5360-1547019000-1547044200@sanjuan.matersalvatoris.org
SUMMARY:Se reanudan las clases
DESCRIPTION:
URL:https://sanjuan.matersalvatoris.org/evento/se-reanudan-las-clases/
END:VEVENT
BEGIN:VEVENT
DTSTART;VALUE=DATE:20181219
DTEND;VALUE=DATE:20190109
DTSTAMP:20260425T030803
CREATED:20180727T160938Z
LAST-MODIFIED:20180727T160938Z
UID:5358-1545177600-1546991999@sanjuan.matersalvatoris.org
SUMMARY:Receso de Navidad
DESCRIPTION:
URL:https://sanjuan.matersalvatoris.org/evento/receso-de-navidad/
END:VEVENT
END:VCALENDAR